Workbook
Name CONTAINS: LAMBDA(cell, range, NOT(ISERROR(MATCH(cell,range,0))))

Sheet Budget
A1: My Average Basic Monthly Budget | K1: Current Assets | O1: Credit Card Monthly Expense | Q1: Credit Card Monthly Deposits | S1: Income/Loss | U1: kWh | V1: ELECTRICITY | Y1: WATER
H2: Needs | I2: =SUM(E5:E18) -> 0 | K2: Investments And Retirement (Add info Here) | O2: Jan | P2: =January!K108*-1 -> 0 | Q2: Jan | R2: =January!N108 -> 0 | S2: =SUM(P2,R2) -> 0 | U2: 141.7 | V2: 45870 | W2: 500 | Y2: 45927 | Z2: 500
A3: Income | D3: Expenses | H3: Could Live Without | I3: =SUM(E23:E25) -> 0 | K3: Invest IA102216 (Investment Account) | L3: 0 | O3: Feb | P3: =February!I108*-1 -> 0 | Q3: Feb | R3: 0 | S3: =SUM(P3,R3) -> 0 | U3: 141.7 | V3: 45887 | W3: 500 | Y3: 46049 | Z3: 300
H4: Work Related (Worth Keeping) | I4: =E22 -> 0 | O4: Mar | P4: =March!I108*-1 -> 0 | Q4: Mar | R4: 0 | S4: =SUM(P4,R4) -> 0 | U4: 113 | V4: 45913 | W4: 400
A5: Salary (After Tax) | B5: 0 | D5: Medical Aid & Vitality | E5: 0 | H5: Savings/Retirement | I5: =SUM(E27:E30) -> 0 | K5: RA | L5: 0 | O5: Apr | P5: =April!I108*-1 -> 0 | Q5: Apr | R5: 0 | S5: =SUM(P5,R5) -> 0 | U5: 141.7 | V5: 45929 | W5: 500
D6: Car/Household/AllRisk Insurance | E6: 0 | H6: Bank Fees | I6: =SUM(E20:E21) -> 0 | K6: Tax Free | L6: 0 | O6: May | P6: =May!I108*-1 -> 0 | Q6: May | R6: 0 | S6: =SUM(P6,R6) -> 0 | U6: 141.7 | V6: 45946 | W6: 500
D7: MTN Contract | E7: 0 | H7: Current Hobbies | O7: Jun | P7: =June!I108*-1 -> 0 | Q7: Jun | R7: 0 | S7: =SUM(P7,R7) -> 0 | U7: 141.7 | V7: 45962 | W7: 500
D8: Gym | E8: 0 | I8: =SUM(I2:I7) -> 0 | O8: Jul | P8: =July!I108*-1 -> 0 | Q8: Jul | R8: 0 | S8: =SUM(P8,R8) -> 0 | U8: 141.7 | V8: 45978 | W8: 500
D9: Rent | E9: 0 | K9: Touchie (House) (Old Mutual) | L9: =L3 -> 0 | O9: Aug | P9: =August!I108*-1 -> 0 | Q9: Aug | R9: 0 | S9: =SUM(P9,R9) -> 0 | U9: 122.1 | V9: 45991 | W9: 500
A10: Salary Net | B10: =B5 -> 0 | D10: Fuel | E10: 0 | H10: Payment Dates | K10: No Touchie (RA & TAX Free) | L10: =L5+L6 -> 0 | O10: Sep | P10: =September!I108*-1 -> 0 | Q10: Sep | R10: 0 | S10: =SUM(P10,R10) -> 0 | U10: 141.7 | V10: 45992 | W10: 500
A11: Total Income | B11: =SUM(B4:B9) -> 0 | D11: RCL | E11: 0 | H11: 1st - 3rd of the Month | I11: =E6+E5+E8+E13+E27+E7 -> 0 | K11: Total Investments | L11: =SUM(L9:L10) -> 0 | O11: Oct | P11: =October!I108*-1 -> 0 | Q11: Oct | R11: 0 | S11: =SUM(P11,R11) -> 0 | U11: 141.7 | V11: 46009 | W11: 500
D12: Home Food (Pretty close, Still Calculating) | E12: 0 | H12: 27th of Month | I12: =E9+E11 -> 0 | O12: Nov | P12: =November!I108*-1 -> 0 | Q12: Nov | R12: 0 | S12: =SUM(P12,R12) -> 0 | U12: 141.7 | V12: 46029 | W12: 500
D13: Internet | E13: 0 | H13: 30th of Month | I13: =E21+E20 -> 0 | O13: Dec | P13: =December!I108*-1 -> 0 | Q13: Dec | R13: 0 | S13: =SUM(P13,R13) -> 0
D14: Water | E14: 0 | K14: Bank Investments/Savings (Add info Here) | O14: Running Balance | T14: =SUM(S2:S13) -> 0
D15: Lights | E15: 0 | K15: Money Market 100k | L15: 0 | O15: Cheque Account Monthly Expense | Q15: Cheque Account Monthly Income | S15: Income/Loss
A16: Running Balances (Auto Populated) | H16: Average Expendature YTD (Auto Populated)
A17: Current Account | B17: =T30 -> 0 | H17: Average Credit Card Expense (12 months) | I17: =AVERAGE(January!K108,February!I108,March!I108,April!I108,May!I108,June!I108,July!I108,August!I108,September!I108,October!I108,November!I108,December!I108)*-1 -> 0
A18: Credit Card | B18: =T14 -> 0 | H18: Average Credit Card Deposit (12 months) | I18: =AVERAGE(January!N108,February!L108,March!L108,April!L108,May!L108,June!L108,July!L108,August!L108,September!L108,October!L108,November!L108,December!L108) -> 0 | K18: Money Market 20K | L18: 0 | O18: Jan | P18: =January!G108*-1 -> 0 | Q18: Jan | R18: =January!C108 -> 0 | S18: =SUm(P18,R18) -> 0 | U18: =SUM(U2:U17) -> 1510.4 | W18: =SUM(W2:W17) -> 5400 | Z18: =SUM(Z2:Z17) -> 800
H19: Average Cheque Income (12 months) | I19: =AVERAGE(January!C108,February!C108,March!C108,April!C108,May!C108,June!C108,July!C108,August!C109,September!C108,October!C108,November!C108,December!C108) -> 0 | K19: Notice 60 Day | L19: 0 | O19: Feb | P19: =February!F108*-1 -> 0 | Q19: Feb | R19: =February!C108 -> 0 | S19: =SUm(P19,R19) -> 0
D20: UCount fee (Like EBucks) | E20: 0 | H20: Average Cheque Expense (12 months) | I20: =Average(January!G108,February!F108,March!F108,April!F108,May!F108,June!F108,July!F108,August!F108,September!F108,October!F108,November!F108,December!F108)*-1 -> 0 | K20: Pure Save | L20: 0 | O20: Mar | P20: =March!F108*-1 -> 0 | Q20: Mar | R20: =March!C108 -> 0 | S20: =SUm(P20,R20) -> 0
A21: Total Assets (Auto Populated) | D21: Bank Fees | E21: 0 | K21: Total Investments | L21: =SUM(L15:L20) -> 0 | O21: Apr | P21: =April!F108*-1 -> 0 | Q21: Apr | R21: =April!C108 -> 0 | S21: =SUm(P21,R21) -> 0
A22: Total Inn8 Investments | B22: =L9 -> 0 | D22: Youtube Premium Sub | E22: 0 | H22: Avg Cheque Income - Expense | I22: =SUM(I19:I20) -> 0 | O22: May | P22: =May!F108*-1 -> 0 | Q22: May | R22: =May!C108 -> 0 | S22: =SUm(P22,R22) -> 0
A23: Total Retirement (RA + Tax Free) | B23: =L10 -> 0 | D23: Netflix Sub | E23: 0 | H23: Avg Credit Deposit - Expense | I23: =Sum(I17:I18) -> 0 | O23: Jun | P23: =June!F108*-1 -> 0 | Q23: Jun | R23: =June!C108 -> 0 | S23: =SUm(P23,R23) -> 0
A24: Total Standard Bank Investments | B24: =L21 -> 0 | D24: Prime Video Sub | E24: 0 | K24: Std Bank Accounts (Add info Here) | O24: Jul | P24: =July!F108*-1 -> 0 | Q24: Jul | R24: =July!C108 -> 0 | S24: =SUm(P24,R24) -> 0
A25: Total Current Accounts (Cheque & Credit) | B25: =L28 -> 0 | D25: Twitch Sub | E25: 0 | H25: Avg Monthly Income/Loss | I25: =Sum(I22:I23) -> 0 | K25: Cheque Account | L25: 0 | O25: Aug | P25: =August!F108*-1 -> 0 | Q25: Aug | R25: =August!C108 -> 0 | S25: =SUm(P25,R25) -> 0
A26: Revolving Credit Loan | B26: =I29 -> 0 | K26: Credit Card | L26: 0 | O26: Sep | P26: =September!F108*-1 -> 0 | Q26: Sep | R26: =September!C108 -> 0 | S26: =SUm(P26,R26) -> 0
A27: Total Assets | B27: =L46 -> 0 | D27: Retirement Annuity | E27: 0 | H27: Current Debt | O27: Oct | P27: =October!F108*-1 -> 0 | Q27: Oct | R27: =October!C108 -> 0 | S27: =SUm(P27,R27) -> 0
D28: Investment Accounts | E28: 0 | H28: Credit Card | I28: =L26 -> 0 | K28: Total Accounts | L28: =sum(L25:L27) -> 0 | O28: Nov | P28: =November!F108*-1 -> 0 | Q28: Nov | R28: =November!C108 -> 0 | S28: =SUm(P28,R28) -> 0
D29: Tax Free Savings | E29: 0 | I29: 0 | O29: Dec | P29: =December!F108*-1 -> 0 | Q29: Dec | R29: =December!C108 -> 0 | S29: =SUm(P29,R29) -> 0
A30: Total Net Worth | B30: =SUM(B22:B25,B27) -> 0 | D30: MoneyMarket | E30: 0 | K30: Physical Assets (All educated Guesses) | O30: Running Balance | T30: =Sum(S18:S29) -> 0
D31: Total Expenses | E31: =SUM(E5:E30)*-1 -> 0 | K31: Bakkie | L31: 0
A32: Total After Expenses | B32: =SUM($B$11,$E$31) -> 0 | H32: Totals For the Year (Auto Populated) | K32: Bicycle | L32: 0
H33: Credit Card Expense | I33: =SUM(January!K108,February!I108,March!I108,April!I108,May!I108,June!I108,July!I108,August!I108,September!I108,October!I107:I108,November!I108,December!I108)*-1 -> 0 | K33: Creedmoor | L33: 0
A34: Electricity | B34: =W18*-1 -> -5400 | H34: Credit Card Deposit | I34: =SUM(January!N108,February!L108,March!L108,April!L108,May!L108,June!L108,July!L108,August!L108,September!L108,October!L108,November!L108,December!L108) -> 0 | K34: .308Win | L34: 0
A35: Water | B35: =Z18*-1 -> -800 | H35: Cheque Account Expense | I35: =Sum(January!G108,February!F108,March!F108,April!F108,May!F108,June!F108,July!F108,August!F108,September!F108,October!F108,November!F108,December!F108)*-1 -> 0 | K35: Glock | L35: 0
A36: Electricity Units kWh | B36: =U18 -> 1510.4 | H36: Cheque Account Income | I36: =SUM(January!C108,February!C108,March!C108,April!C108,May!C108,June!C108,July!C108,August!C108,September!C108,October!C108,November!C108,December!C108) -> 0 | K36: .303 Lee Enfield | L36: 0
K37: Taurus .38 Special | L37: 0
H38: Credit Value | I38: =SUM(I33,I34) -> 0 | L38: 0
H39: Cheque Account Value | I39: =SUM(I35,I36) -> 0 | L39: 0
L40: 0
...

Sheet Cheque Monthly Category Expendi
A1: January | B1: Total Spend: | C1: =January!G108 -> 0 | E1: February | F1: Total Spend: | G1: =February!G108 -> 0 | I1: March | J1: Total Spend: | K1: =March!G108 -> 0 | M1: April | N1: Total Spend: | O1: =April!G108 -> 0
A2: Category | B2: Amount | C2: % Total | E2: Category | F2: Amount | G2: % Total | I2: Category | J2: Amount | K2: % Total | M2: Category | N2: Amount | O2: % Total
A3: Groceries | B3: =SUMIFS(January!$G$6:$G$106,January!$F$6:$F$106,A3) -> 0 | C3: =IFERROR((B3/$C$1),0) -> 0 | E3: Groceries | F3: =SUMIFS(February!$G$6:$G$106,February!$F$6:$F$106,E3) -> 0 | G3: =IFERROR((F3/$G$1),0) -> 0 | I3: Groceries | J3: =SUMIFS(March!$G$6:$G$106,March!$F$6:$F$106,I3) -> 0 | K3: =IFERROR((J3/$K$1),0) -> 0 | M3: Groceries | N3: =SUMIFS(April!$G$6:$G$106,April!$F$6:$F$106,M3) -> 0 | O3: =IFERROR((N3/$O$1),0) -> 0
A4: Entertainment | B4: =SUMIFS(January!$G$6:$G$106,January!$F$6:$F$106,A4) -> 0 | C4: =IFERROR((B4/$C$1),0) -> 0 | E4: Entertainment | F4: =SUMIFS(February!$G$6:$G$106,February!$F$6:$F$106,E4) -> 0 | G4: =IFERROR((F4/$G$1),0) -> 0 | I4: Entertainment | J4: =SUMIFS(March!$G$6:$G$106,March!$F$6:$F$106,I4) -> 0 | K4: =IFERROR((J4/$K$1),0) -> 0 | M4: Entertainment | N4: =SUMIFS(April!$G$6:$G$106,April!$F$6:$F$106,M4) -> 0 | O4: =IFERROR((N4/$O$1),0) -> 0
A5: Fuel | B5: =SUMIFS(January!$G$6:$G$106,January!$F$6:$F$106,A5) -> 0 | C5: =IFERROR((B5/$C$1),0) -> 0 | E5: Fuel | F5: =SUMIFS(February!$G$6:$G$106,February!$F$6:$F$106,E5) -> 0 | G5: =IFERROR((F5/$G$1),0) -> 0 | I5: Fuel | J5: =SUMIFS(March!$G$6:$G$106,March!$F$6:$F$106,I5) -> 0 | K5: =IFERROR((J5/$K$1),0) -> 0 | M5: Fuel | N5: =SUMIFS(April!$G$6:$G$106,April!$F$6:$F$106,M5) -> 0 | O5: =IFERROR((N5/$O$1),0) -> 0
A6: Sport/Exercise | B6: =SUMIFS(January!$G$6:$G$106,January!$F$6:$F$106,A6) -> 0 | C6: =IFERROR((B6/$C$1),0) -> 0 | E6: Sport/Exercise | F6: =SUMIFS(February!$G$6:$G$106,February!$F$6:$F$106,E6) -> 0 | G6: =IFERROR((F6/$G$1),0) -> 0 | I6: Sport/Exercise | J6: =SUMIFS(March!$G$6:$G$106,March!$F$6:$F$106,I6) -> 0 | K6: =IFERROR((J6/$K$1),0) -> 0 | M6: Sport/Exercise | N6: =SUMIFS(April!$G$6:$G$106,April!$F$6:$F$106,M6) -> 0 | O6: =IFERROR((N6/$O$1),0) -> 0
A7: Rent | B7: =SUMIFS(January!$G$6:$G$106,January!$F$6:$F$106,A7) -> 0 | C7: =IFERROR((B7/$C$1),0) -> 0 | E7: Rent | F7: =SUMIFS(February!$G$6:$G$106,February!$F$6:$F$106,E7) -> 0 | G7: =IFERROR((F7/$G$1),0) -> 0 | I7: Rent | J7: =SUMIFS(March!$G$6:$G$106,March!$F$6:$F$106,I7) -> 0 | K7: =IFERROR((J7/$K$1),0) -> 0 | M7: Rent | N7: =SUMIFS(April!$G$6:$G$106,April!$F$6:$F$106,M7) -> 0 | O7: =IFERROR((N7/$O$1),0) -> 0
A8: Takeaways | B8: =SUMIFS(January!$G$6:$G$106,January!$F$6:$F$106,A8) -> 0 | C8: =IFERROR((B8/$C$1),0) -> 0 | E8: Takeaways | F8: =SUMIFS(February!$G$6:$G$106,February!$F$6:$F$106,E8) -> 0 | G8: =IFERROR((F8/$G$1),0) -> 0 | I8: Takeaways | J8: =SUMIFS(March!$G$6:$G$106,March!$F$6:$F$106,I8) -> 0 | K8: =IFERROR((J8/$K$1),0) -> 0 | M8: Takeaways | N8: =SUMIFS(April!$G$6:$G$106,April!$F$6:$F$106,M8) -> 0 | O8: =IFERROR((N8/$O$1),0) -> 0
A9: Utilities | B9: =SUMIFS(January!$G$6:$G$106,January!$F$6:$F$106,A9) -> 0 | C9: =IFERROR((B9/$C$1),0) -> 0 | E9: Utilities | F9: =SUMIFS(February!$G$6:$G$106,February!$F$6:$F$106,E9) -> 0 | G9: =IFERROR((F9/$G$1),0) -> 0 | I9: Utilities | J9: =SUMIFS(March!$G$6:$G$106,March!$F$6:$F$106,I9) -> 0 | K9: =IFERROR((J9/$K$1),0) -> 0 | M9: Utilities | N9: =SUMIFS(April!$G$6:$G$106,April!$F$6:$F$106,M9) -> 0 | O9: =IFERROR((N9/$O$1),0) -> 0
A10: Hobbies | B10: =SUMIFS(January!$G$6:$G$106,January!$F$6:$F$106,A10) -> 0 | C10: =IFERROR((B10/$C$1),0) -> 0 | E10: Hobbies | F10: =SUMIFS(February!$G$6:$G$106,February!$F$6:$F$106,E10) -> 0 | G10: =IFERROR((F10/$G$1),0) -> 0 | I10: Hobbies | J10: =SUMIFS(March!$G$6:$G$106,March!$F$6:$F$106,I10) -> 0 | K10: =IFERROR((J10/$K$1),0) -> 0 | M10: Hobbies | N10: =SUMIFS(April!$G$6:$G$106,April!$F$6:$F$106,M10) -> 0 | O10: =IFERROR((N10/$O$1),0) -> 0
A11: House Supplies | B11: =SUMIFS(January!$G$6:$G$106,January!$F$6:$F$106,A11) -> 0 | C11: =IFERROR((B11/$C$1),0) -> 0 | E11: House Supplies | F11: =SUMIFS(February!$G$6:$G$106,February!$F$6:$F$106,E11) -> 0 | G11: =IFERROR((F11/$G$1),0) -> 0 | I11: House Supplies | J11: =SUMIFS(March!$G$6:$G$106,March!$F$6:$F$106,I11) -> 0 | K11: =IFERROR((J11/$K$1),0) -> 0 | M11: House Supplies | N11: =SUMIFS(April!$G$6:$G$106,April!$F$6:$F$106,M11) -> 0 | O11: =IFERROR((N11/$O$1),0) -> 0
A12: Water | B12: =SUMIFS(January!$G$6:$G$106,January!$F$6:$F$106,A12) -> 0 | C12: =IFERROR((B12/$C$1),0) -> 0 | E12: Water | F12: =SUMIFS(February!$G$6:$G$106,February!$F$6:$F$106,E12) -> 0 | G12: =IFERROR((F12/$G$1),0) -> 0 | I12: Water | J12: =SUMIFS(March!$G$6:$G$106,March!$F$6:$F$106,I12) -> 0 | K12: =IFERROR((J12/$K$1),0) -> 0 | M12: Water | N12: =SUMIFS(April!$G$6:$G$106,April!$F$6:$F$106,M12) -> 0 | O12: =IFERROR((N12/$O$1),0) -> 0
A13: Other | B13: =SUMIFS(January!$G$6:$G$106,January!$F$6:$F$106,A13) -> 0 | C13: =IFERROR((B13/$C$1),0) -> 0 | E13: Other | F13: =SUMIFS(February!$G$6:$G$106,February!$F$6:$F$106,E13) -> 0 | G13: =IFERROR((F13/$G$1),0) -> 0 | I13: Other | J13: =SUMIFS(March!$G$6:$G$106,March!$F$6:$F$106,I13) -> 0 | K13: =IFERROR((J13/$K$1),0) -> 0 | M13: Other | N13: =SUMIFS(April!$G$6:$G$106,April!$F$6:$F$106,M13) -> 0 | O13: =IFERROR((N13/$O$1),0) -> 0
A14: NONE | B14: =SUMIFS(January!$G$6:$G$106,January!$F$6:$F$106,A14) -> 0 | C14: =IFERROR((B14/$C$1),0) -> 0 | E14: NONE | F14: =SUMIFS(February!$G$6:$G$106,February!$F$6:$F$106,E14) -> 0 | G14: =IFERROR((F14/$G$1),0) -> 0 | I14: NONE | J14: =SUMIFS(March!$G$6:$G$106,March!$F$6:$F$106,I14) -> 0 | K14: =IFERROR((J14/$K$1),0) -> 0 | M14: NONE | N14: =SUMIFS(April!$G$6:$G$106,April!$F$6:$F$106,M14) -> 0 | O14: =IFERROR((N14/$O$1),0) -> 0
A18: May | B18: Total Spend: | C18: =May!G108 -> 0 | E18: June | F18: Total Spend: | G18: =June!G108 -> 0 | I18: July | J18: Total Spend: | K18: =July!G108 -> 0 | M18: August | N18: Total Spend: | O18: =August!G108 -> 0
A19: Category | B19: Amount | C19: % Total | E19: Category | F19: Amount | G19: % Total | I19: Category | J19: Amount | K19: % Total | M19: Category | N19: Amount | O19: % Total
A20: Groceries | B20: =SUMIFS(May!$G$6:$G$106,May!$F$6:$F$106,A20) -> 0 | C20: =IFERROR((B20/$C$18),0) -> 0 | E20: Groceries | F20: =SUMIFS(June!$G$6:$G$106,June!$F$6:$F$106,E20) -> 0 | G20: =IFERROR((F20/$G$18),0) -> 0 | I20: Groceries | J20: =SUMIFS(July!$G$6:$G$106,July!$F$6:$F$106,I20) -> 0 | K20: =IFERROR((J20/$K$18),0) -> 0 | M20: Groceries | N20: =SUMIFS(August!$G$6:$G$106,August!$F$6:$F$106,M20) -> 0 | O20: =IFERROR((N20/$O$18),0) -> 0
A21: Entertainment | B21: =SUMIFS(May!$G$6:$G$106,May!$F$6:$F$106,A21) -> 0 | C21: =IFERROR((B21/$C$18),0) -> 0 | E21: Entertainment | F21: =SUMIFS(June!$G$6:$G$106,June!$F$6:$F$106,E21) -> 0 | G21: =IFERROR((F21/$G$18),0) -> 0 | I21: Entertainment | J21: =SUMIFS(July!$G$6:$G$106,July!$F$6:$F$106,I21) -> 0 | K21: =IFERROR((J21/$K$18),0) -> 0 | M21: Entertainment | N21: =SUMIFS(August!$G$6:$G$106,August!$F$6:$F$106,M21) -> 0 | O21: =IFERROR((N21/$O$18),0) -> 0
A22: Fuel | B22: =SUMIFS(May!$G$6:$G$106,May!$F$6:$F$106,A22) -> 0 | C22: =IFERROR((B22/$C$18),0) -> 0 | E22: Fuel | F22: =SUMIFS(June!$G$6:$G$106,June!$F$6:$F$106,E22) -> 0 | G22: =IFERROR((F22/$G$18),0) -> 0 | I22: Fuel | J22: =SUMIFS(July!$G$6:$G$106,July!$F$6:$F$106,I22) -> 0 | K22: =IFERROR((J22/$K$18),0) -> 0 | M22: Fuel | N22: =SUMIFS(August!$G$6:$G$106,August!$F$6:$F$106,M22) -> 0 | O22: =IFERROR((N22/$O$18),0) -> 0
A23: Sport/Exercise | B23: =SUMIFS(May!$G$6:$G$106,May!$F$6:$F$106,A23) -> 0 | C23: =IFERROR((B23/$C$18),0) -> 0 | E23: Sport/Exercise | F23: =SUMIFS(June!$G$6:$G$106,June!$F$6:$F$106,E23) -> 0 | G23: =IFERROR((F23/$G$18),0) -> 0 | I23: Sport/Exercise | J23: =SUMIFS(July!$G$6:$G$106,July!$F$6:$F$106,I23) -> 0 | K23: =IFERROR((J23/$K$18),0) -> 0 | M23: Sport/Exercise | N23: =SUMIFS(August!$G$6:$G$106,August!$F$6:$F$106,M23) -> 0 | O23: =IFERROR((N23/$O$18),0) -> 0
A24: Rent | B24: =SUMIFS(May!$G$6:$G$106,May!$F$6:$F$106,A24) -> 0 | C24: =IFERROR((B24/$C$18),0) -> 0 | E24: Rent | F24: =SUMIFS(June!$G$6:$G$106,June!$F$6:$F$106,E24) -> 0 | G24: =IFERROR((F24/$G$18),0) -> 0 | I24: Rent | J24: =SUMIFS(July!$G$6:$G$106,July!$F$6:$F$106,I24) -> 0 | K24: =IFERROR((J24/$K$18),0) -> 0 | M24: Rent | N24: =SUMIFS(August!$G$6:$G$106,August!$F$6:$F$106,M24) -> 0 | O24: =IFERROR((N24/$O$18),0) -> 0
A25: Takeaways | B25: =SUMIFS(May!$G$6:$G$106,May!$F$6:$F$106,A25) -> 0 | C25: =IFERROR((B25/$C$18),0) -> 0 | E25: Takeaways | F25: =SUMIFS(June!$G$6:$G$106,June!$F$6:$F$106,E25) -> 0 | G25: =IFERROR((F25/$G$18),0) -> 0 | I25: Takeaways | J25: =SUMIFS(July!$G$6:$G$106,July!$F$6:$F$106,I25) -> 0 | K25: =IFERROR((J25/$K$18),0) -> 0 | M25: Takeaways | N25: =SUMIFS(August!$G$6:$G$106,August!$F$6:$F$106,M25) -> 0 | O25: =IFERROR((N25/$O$18),0) -> 0
A26: Utilities | B26: =SUMIFS(May!$G$6:$G$106,May!$F$6:$F$106,A26) -> 0 | C26: =IFERROR((B26/$C$18),0) -> 0 | E26: Utilities | F26: =SUMIFS(June!$G$6:$G$106,June!$F$6:$F$106,E26) -> 0 | G26: =IFERROR((F26/$G$18),0) -> 0 | I26: Utilities | J26: =SUMIFS(July!$G$6:$G$106,July!$F$6:$F$106,I26) -> 0 | K26: =IFERROR((J26/$K$18),0) -> 0 | M26: Utilities | N26: =SUMIFS(August!$G$6:$G$106,August!$F$6:$F$106,M26) -> 0 | O26: =IFERROR((N26/$O$18),0) -> 0
A27: Hobbies | B27: =SUMIFS(May!$G$6:$G$106,May!$F$6:$F$106,A27) -> 0 | C27: =IFERROR((B27/$C$18),0) -> 0 | E27: Hobbies | F27: =SUMIFS(June!$G$6:$G$106,June!$F$6:$F$106,E27) -> 0 | G27: =IFERROR((F27/$G$18),0) -> 0 | I27: Hobbies | J27: =SUMIFS(July!$G$6:$G$106,July!$F$6:$F$106,I27) -> 0 | K27: =IFERROR((J27/$K$18),0) -> 0 | M27: Hobbies | N27: =SUMIFS(August!$G$6:$G$106,August!$F$6:$F$106,M27) -> 0 | O27: =IFERROR((N27/$O$18),0) -> 0
A28: House Supplies | B28: =SUMIFS(May!$G$6:$G$106,May!$F$6:$F$106,A28) -> 0 | C28: =IFERROR((B28/$C$18),0) -> 0 | E28: House Supplies | F28: =SUMIFS(June!$G$6:$G$106,June!$F$6:$F$106,E28) -> 0 | G28: =IFERROR((F28/$G$18),0) -> 0 | I28: House Supplies | J28: =SUMIFS(July!$G$6:$G$106,July!$F$6:$F$106,I28) -> 0 | K28: =IFERROR((J28/$K$18),0) -> 0 | M28: House Supplies | N28: =SUMIFS(August!$G$6:$G$106,August!$F$6:$F$106,M28) -> 0 | O28: =IFERROR((N28/$O$18),0) -> 0
A29: Water | B29: =SUMIFS(May!$G$6:$G$106,May!$F$6:$F$106,A29) -> 0 | C29: =IFERROR((B29/$C$18),0) -> 0 | E29: Water | F29: =SUMIFS(June!$G$6:$G$106,June!$F$6:$F$106,E29) -> 0 | G29: =IFERROR((F29/$G$18),0) -> 0 | I29: Water | J29: =SUMIFS(July!$G$6:$G$106,July!$F$6:$F$106,I29) -> 0 | K29: =IFERROR((J29/$K$18),0) -> 0 | M29: Water | N29: =SUMIFS(August!$G$6:$G$106,August!$F$6:$F$106,M29) -> 0 | O29: =IFERROR((N29/$O$18),0) -> 0
A30: Other | B30: =SUMIFS(May!$G$6:$G$106,May!$F$6:$F$106,A30) -> 0 | C30: =IFERROR((B30/$C$18),0) -> 0 | E30: Other | F30: =SUMIFS(June!$G$6:$G$106,June!$F$6:$F$106,E30) -> 0 | G30: =IFERROR((F30/$G$18),0) -> 0 | I30: Other | J30: =SUMIFS(July!$G$6:$G$106,July!$F$6:$F$106,I30) -> 0 | K30: =IFERROR((J30/$K$18),0) -> 0 | M30: Other | N30: =SUMIFS(August!$G$6:$G$106,August!$F$6:$F$106,M30) -> 0 | O30: =IFERROR((N30/$O$18),0) -> 0
A31: NONE | B31: =SUMIFS(May!$G$6:$G$106,May!$F$6:$F$106,A31) -> 0 | C31: =IFERROR((B31/$C$18),0) -> 0 | E31: NONE | F31: =SUMIFS(June!$G$6:$G$106,June!$F$6:$F$106,E31) -> 0 | G31: =IFERROR((F31/$G$18),0) -> 0 | I31: NONE | J31: =SUMIFS(July!$G$6:$G$106,July!$F$6:$F$106,I31) -> 0 | K31: =IFERROR((J31/$K$18),0) -> 0 | M31: NONE | N31: =SUMIFS(August!$G$6:$G$106,August!$F$6:$F$106,M31) -> 0 | O31: =IFERROR((N31/$O$18),0) -> 0
A35: September | B35: Total Spend: | C35: =September!G108 -> 0 | E35: October | F35: Total Spend: | G35: =October!G108 -> 0 | I35: November | J35: Total Spend: | K35: =November!G108 -> 0 | M35: December | N35: Total Spend: | O35: =December!G108 -> 0
A36: Category | B36: Amount | C36: % Total | E36: Category | F36: Amount | G36: % Total | I36: Category | J36: Amount | K36: % Total | M36: Category | N36: Amount | O36: % Total
A37: Groceries | B37: =SUMIFS(September!$G$6:$G$106,September!$F$6:$F$106,A37) -> 0 | C37: =IFERROR((B37/$C$35),0) -> 0 | E37: Groceries | F37: =SUMIFS(October!$G$6:$G$106,October!$F$6:$F$106,E37) -> 0 | G37: =IFERROR((F37/$G$35),0) -> 0 | I37: Groceries | J37: =SUMIFS(November!$G$6:$G$106,November!$F$6:$F$106,I37) -> 0 | K37: =IFERROR((J37/$K$35),0) -> 0 | M37: Groceries | N37: =SUMIFS(December!$G$6:$G$106,December!$F$6:$F$106,M37) -> 0 | O37: =IFERROR((N37/$O$35),0) -> 0
A38: Entertainment | B38: =SUMIFS(September!$G$6:$G$106,September!$F$6:$F$106,A38) -> 0 | C38: =IFERROR((B38/$C$35),0) -> 0 | E38: Entertainment | F38: =SUMIFS(October!$G$6:$G$106,October!$F$6:$F$106,E38) -> 0 | G38: =IFERROR((F38/$G$35),0) -> 0 | I38: Entertainment | J38: =SUMIFS(November!$G$6:$G$106,November!$F$6:$F$106,I38) -> 0 | K38: =IFERROR((J38/$K$35),0) -> 0 | M38: Entertainment | N38: =SUMIFS(December!$G$6:$G$106,December!$F$6:$F$106,M38) -> 0 | O38: =IFERROR((N38/$O$35),0) -> 0
A39: Fuel | B39: =SUMIFS(September!$G$6:$G$106,September!$F$6:$F$106,A39) -> 0 | C39: =IFERROR((B39/$C$35),0) -> 0 | E39: Fuel | F39: =SUMIFS(October!$G$6:$G$106,October!$F$6:$F$106,E39) -> 0 | G39: =IFERROR((F39/$G$35),0) -> 0 | I39: Fuel | J39: =SUMIFS(November!$G$6:$G$106,November!$F$6:$F$106,I39) -> 0 | K39: =IFERROR((J39/$K$35),0) -> 0 | M39: Fuel | N39: =SUMIFS(December!$G$6:$G$106,December!$F$6:$F$106,M39) -> 0 | O39: =IFERROR((N39/$O$35),0) -> 0
A40: Sport/Exercise | B40: =SUMIFS(September!$G$6:$G$106,September!$F$6:$F$106,A40) -> 0 | C40: =IFERROR((B40/$C$35),0) -> 0 | E40: Sport/Exercise | F40: =SUMIFS(October!$G$6:$G$106,October!$F$6:$F$106,E40) -> 0 | G40: =IFERROR((F40/$G$35),0) -> 0 | I40: Sport/Exercise | J40: =SUMIFS(November!$G$6:$G$106,November!$F$6:$F$106,I40) -> 0 | K40: =IFERROR((J40/$K$35),0) -> 0 | M40: Sport/Exercise | N40: =SUMIFS(December!$G$6:$G$106,December!$F$6:$F$106,M40) -> 0 | O40: =IFERROR((N40/$O$35),0) -> 0
A41: Rent | B41: =SUMIFS(September!$G$6:$G$106,September!$F$6:$F$106,A41) -> 0 | C41: =IFERROR((B41/$C$35),0) -> 0 | E41: Rent | F41: =SUMIFS(October!$G$6:$G$106,October!$F$6:$F$106,E41) -> 0 | G41: =IFERROR((F41/$G$35),0) -> 0 | I41: Rent | J41: =SUMIFS(November!$G$6:$G$106,November!$F$6:$F$106,I41) -> 0 | K41: =IFERROR((J41/$K$35),0) -> 0 | M41: Rent | N41: =SUMIFS(December!$G$6:$G$106,December!$F$6:$F$106,M41) -> 0 | O41: =IFERROR((N41/$O$35),0) -> 0
A42: Takeaways | B42: =SUMIFS(September!$G$6:$G$106,September!$F$6:$F$106,A42) -> 0 | C42: =IFERROR((B42/$C$35),0) -> 0 | E42: Takeaways | F42: =SUMIFS(October!$G$6:$G$106,October!$F$6:$F$106,E42) -> 0 | G42: =IFERROR((F42/$G$35),0) -> 0 | I42: Takeaways | J42: =SUMIFS(November!$G$6:$G$106,November!$F$6:$F$106,I42) -> 0 | K42: =IFERROR((J42/$K$35),0) -> 0 | M42: Takeaways | N42: =SUMIFS(December!$G$6:$G$106,December!$F$6:$F$106,M42) -> 0 | O42: =IFERROR((N42/$O$35),0) -> 0
A43: Utilities | B43: =SUMIFS(September!$G$6:$G$106,September!$F$6:$F$106,A43) -> 0 | C43: =IFERROR((B43/$C$35),0) -> 0 | E43: Utilities | F43: =SUMIFS(October!$G$6:$G$106,October!$F$6:$F$106,E43) -> 0 | G43: =IFERROR((F43/$G$35),0) -> 0 | I43: Utilities | J43: =SUMIFS(November!$G$6:$G$106,November!$F$6:$F$106,I43) -> 0 | K43: =IFERROR((J43/$K$35),0) -> 0 | M43: Utilities | N43: =SUMIFS(December!$G$6:$G$106,December!$F$6:$F$106,M43) -> 0 | O43: =IFERROR((N43/$O$35),0) -> 0
A44: Hobbies | B44: =SUMIFS(September!$G$6:$G$106,September!$F$6:$F$106,A44) -> 0 | C44: =IFERROR((B44/$C$35),0) -> 0 | E44: Hobbies | F44: =SUMIFS(October!$G$6:$G$106,October!$F$6:$F$106,E44) -> 0 | G44: =IFERROR((F44/$G$35),0) -> 0 | I44: Hobbies | J44: =SUMIFS(November!$G$6:$G$106,November!$F$6:$F$106,I44) -> 0 | K44: =IFERROR((J44/$K$35),0) -> 0 | M44: Hobbies | N44: =SUMIFS(December!$G$6:$G$106,December!$F$6:$F$106,M44) -> 0 | O44: =IFERROR((N44/$O$35),0) -> 0
A45: House Supplies | B45: =SUMIFS(September!$G$6:$G$106,September!$F$6:$F$106,A45) -> 0 | C45: =IFERROR((B45/$C$35),0) -> 0 | E45: House Supplies | F45: =SUMIFS(October!$G$6:$G$106,October!$F$6:$F$106,E45) -> 0 | G45: =IFERROR((F45/$G$35),0) -> 0 | I45: House Supplies | J45: =SUMIFS(November!$G$6:$G$106,November!$F$6:$F$106,I45) -> 0 | K45: =IFERROR((J45/$K$35),0) -> 0 | M45: House Supplies | N45: =SUMIFS(December!$G$6:$G$106,December!$F$6:$F$106,M45) -> 0 | O45: =IFERROR((N45/$O$35),0) -> 0
A46: Water | B46: =SUMIFS(September!$G$6:$G$106,September!$F$6:$F$106,A46) -> 0 | C46: =IFERROR((B46/$C$35),0) -> 0 | E46: Water | F46: =SUMIFS(October!$G$6:$G$106,October!$F$6:$F$106,E46) -> 0 | G46: =IFERROR((F46/$G$35),0) -> 0 | I46: Water | J46: =SUMIFS(November!$G$6:$G$106,November!$F$6:$F$106,I46) -> 0 | K46: =IFERROR((J46/$K$35),0) -> 0 | M46: Water | N46: =SUMIFS(December!$G$6:$G$106,December!$F$6:$F$106,M46) -> 0 | O46: =IFERROR((N46/$O$35),0) -> 0
...

Sheet Credit Monthly Category Expendi
A1: January | B1: Total Spend: | C1: =January!K108 -> 0 | E1: February | F1: Total Spend: | G1: =February!K108 -> 0 | I1: March | J1: Total Spend: | K1: =March!K108 -> 0 | M1: April | N1: Total Spend: | O1: =April!K108 -> 0
A2: Category | B2: Amount | C2: % Total | E2: Category | F2: Amount | G2: % Total | I2: Category | J2: Amount | K2: % Total | M2: Category | N2: Amount | O2: % Total
A3: Groceries | B3: =SUMIFS(January!$K$6:$K$106,January!$J$6:$J$106,A3) -> 0 | C3: =IFERROR((B3/$C$1),0) -> 0 | E3: Groceries | F3: =SUMIFS(February!$K$6:$K$106,February!$J$6:$J$106,E3) -> 0 | G3: =IFERROR((F3/$G$1),0) -> 0 | I3: Groceries | J3: =SUMIFS(March!$K$6:$K$106,March!$J$6:$J$106,I3) -> 0 | K3: =IFERROR((J3/$K$1),0) -> 0 | M3: Groceries | N3: =SUMIFS(April!$K$6:$K$106,April!$J$6:$J$106,M3) -> 0 | O3: =IFERROR((N3/$O$1),0) -> 0
A4: Entertainment | B4: =SUMIFS(January!$K$6:$K$106,January!$J$6:$J$106,A4) -> 0 | C4: =IFERROR((B4/$C$1),0) -> 0 | E4: Entertainment | F4: =SUMIFS(February!$K$6:$K$106,February!$J$6:$J$106,E4) -> 0 | G4: =IFERROR((F4/$G$1),0) -> 0 | I4: Entertainment | J4: =SUMIFS(March!$K$6:$K$106,March!$J$6:$J$106,I4) -> 0 | K4: =IFERROR((J4/$K$1),0) -> 0 | M4: Entertainment | N4: =SUMIFS(April!$K$6:$K$106,April!$J$6:$J$106,M4) -> 0 | O4: =IFERROR((N4/$O$1),0) -> 0
A5: Fuel | B5: =SUMIFS(January!$K$6:$K$106,January!$J$6:$J$106,A5) -> 0 | C5: =IFERROR((B5/$C$1),0) -> 0 | E5: Fuel | F5: =SUMIFS(February!$K$6:$K$106,February!$J$6:$J$106,E5) -> 0 | G5: =IFERROR((F5/$G$1),0) -> 0 | I5: Fuel | J5: =SUMIFS(March!$K$6:$K$106,March!$J$6:$J$106,I5) -> 0 | K5: =IFERROR((J5/$K$1),0) -> 0 | M5: Fuel | N5: =SUMIFS(April!$K$6:$K$106,April!$J$6:$J$106,M5) -> 0 | O5: =IFERROR((N5/$O$1),0) -> 0
A6: Sport/Exercise | B6: =SUMIFS(January!$K$6:$K$106,January!$J$6:$J$106,A6) -> 0 | C6: =IFERROR((B6/$C$1),0) -> 0 | E6: Sport/Exercise | F6: =SUMIFS(February!$K$6:$K$106,February!$J$6:$J$106,E6) -> 0 | G6: =IFERROR((F6/$G$1),0) -> 0 | I6: Sport/Exercise | J6: =SUMIFS(March!$K$6:$K$106,March!$J$6:$J$106,I6) -> 0 | K6: =IFERROR((J6/$K$1),0) -> 0 | M6: Sport/Exercise | N6: =SUMIFS(April!$K$6:$K$106,April!$J$6:$J$106,M6) -> 0 | O6: =IFERROR((N6/$O$1),0) -> 0
A7: Rent | B7: =SUMIFS(January!$K$6:$K$106,January!$J$6:$J$106,A7) -> 0 | C7: =IFERROR((B7/$C$1),0) -> 0 | E7: Rent | F7: =SUMIFS(February!$K$6:$K$106,February!$J$6:$J$106,E7) -> 0 | G7: =IFERROR((F7/$G$1),0) -> 0 | I7: Rent | J7: =SUMIFS(March!$K$6:$K$106,March!$J$6:$J$106,I7) -> 0 | K7: =IFERROR((J7/$K$1),0) -> 0 | M7: Rent | N7: =SUMIFS(April!$K$6:$K$106,April!$J$6:$J$106,M7) -> 0 | O7: =IFERROR((N7/$O$1),0) -> 0
A8: Takeaways | B8: =SUMIFS(January!$K$6:$K$106,January!$J$6:$J$106,A8) -> 0 | C8: =IFERROR((B8/$C$1),0) -> 0 | E8: Takeaways | F8: =SUMIFS(February!$K$6:$K$106,February!$J$6:$J$106,E8) -> 0 | G8: =IFERROR((F8/$G$1),0) -> 0 | I8: Takeaways | J8: =SUMIFS(March!$K$6:$K$106,March!$J$6:$J$106,I8) -> 0 | K8: =IFERROR((J8/$K$1),0) -> 0 | M8: Takeaways | N8: =SUMIFS(April!$K$6:$K$106,April!$J$6:$J$106,M8) -> 0 | O8: =IFERROR((N8/$O$1),0) -> 0
A9: Utilities | B9: =SUMIFS(January!$K$6:$K$106,January!$J$6:$J$106,A9) -> 0 | C9: =IFERROR((B9/$C$1),0) -> 0 | E9: Utilities | F9: =SUMIFS(February!$K$6:$K$106,February!$J$6:$J$106,E9) -> 0 | G9: =IFERROR((F9/$G$1),0) -> 0 | I9: Utilities | J9: =SUMIFS(March!$K$6:$K$106,March!$J$6:$J$106,I9) -> 0 | K9: =IFERROR((J9/$K$1),0) -> 0 | M9: Utilities | N9: =SUMIFS(April!$K$6:$K$106,April!$J$6:$J$106,M9) -> 0 | O9: =IFERROR((N9/$O$1),0) -> 0
A10: Hobbies | B10: =SUMIFS(January!$K$6:$K$106,January!$J$6:$J$106,A10) -> 0 | C10: =IFERROR((B10/$C$1),0) -> 0 | E10: Hobbies | F10: =SUMIFS(February!$K$6:$K$106,February!$J$6:$J$106,E10) -> 0 | G10: =IFERROR((F10/$G$1),0) -> 0 | I10: Hobbies | J10: =SUMIFS(March!$K$6:$K$106,March!$J$6:$J$106,I10) -> 0 | K10: =IFERROR((J10/$K$1),0) -> 0 | M10: Hobbies | N10: =SUMIFS(April!$K$6:$K$106,April!$J$6:$J$106,M10) -> 0 | O10: =IFERROR((N10/$O$1),0) -> 0
A11: House Supplies | B11: =SUMIFS(January!$K$6:$K$106,January!$J$6:$J$106,A11) -> 0 | C11: =IFERROR((B11/$C$1),0) -> 0 | E11: House Supplies | F11: =SUMIFS(February!$K$6:$K$106,February!$J$6:$J$106,E11) -> 0 | G11: =IFERROR((F11/$G$1),0) -> 0 | I11: House Supplies | J11: =SUMIFS(March!$K$6:$K$106,March!$J$6:$J$106,I11) -> 0 | K11: =IFERROR((J11/$K$1),0) -> 0 | M11: House Supplies | N11: =SUMIFS(April!$K$6:$K$106,April!$J$6:$J$106,M11) -> 0 | O11: =IFERROR((N11/$O$1),0) -> 0
A12: Water | B12: =SUMIFS(January!$K$6:$K$106,January!$J$6:$J$106,A12) -> 0 | C12: =IFERROR((B12/$C$1),0) -> 0 | E12: Water | F12: =SUMIFS(February!$K$6:$K$106,February!$J$6:$J$106,E12) -> 0 | G12: =IFERROR((F12/$G$1),0) -> 0 | I12: Water | J12: =SUMIFS(March!$K$6:$K$106,March!$J$6:$J$106,I12) -> 0 | K12: =IFERROR((J12/$K$1),0) -> 0 | M12: Water | N12: =SUMIFS(April!$K$6:$K$106,April!$J$6:$J$106,M12) -> 0 | O12: =IFERROR((N12/$O$1),0) -> 0
A13: Other | B13: =SUMIFS(January!$K$6:$K$106,January!$J$6:$J$106,A13) -> 0 | C13: =IFERROR((B13/$C$1),0) -> 0 | E13: Other | F13: =SUMIFS(February!$K$6:$K$106,February!$J$6:$J$106,E13) -> 0 | G13: =IFERROR((F13/$G$1),0) -> 0 | I13: Other | J13: =SUMIFS(March!$K$6:$K$106,March!$J$6:$J$106,I13) -> 0 | K13: =IFERROR((J13/$K$1),0) -> 0 | M13: Other | N13: =SUMIFS(April!$K$6:$K$106,April!$J$6:$J$106,M13) -> 0 | O13: =IFERROR((N13/$O$1),0) -> 0
A14: NONE | B14: =SUMIFS(January!$K$6:$K$106,January!$J$6:$J$106,A14) -> 0 | C14: =IFERROR((B14/$C$1),0) -> 0 | E14: NONE | F14: =SUMIFS(February!$K$6:$K$106,February!$J$6:$J$106,E14) -> 0 | G14: =IFERROR((F14/$G$1),0) -> 0 | I14: NONE | J14: =SUMIFS(March!$K$6:$K$106,March!$J$6:$J$106,I14) -> 0 | K14: =IFERROR((J14/$K$1),0) -> 0 | M14: NONE | N14: =SUMIFS(April!$K$6:$K$106,April!$J$6:$J$106,M14) -> 0 | O14: =IFERROR((N14/$O$1),0) -> 0
A18: May | B18: Total Spend: | C18: =May!K108 -> 0 | E18: June | F18: Total Spend: | G18: =June!K108 -> 0 | I18: July | J18: Total Spend: | K18: =July!K108 -> 0 | M18: August | N18: Total Spend: | O18: =August!K108 -> 0
A19: Category | B19: Amount | C19: % Total | E19: Category | F19: Amount | G19: % Total | I19: Category | J19: Amount | K19: % Total | M19: Category | N19: Amount | O19: % Total
A20: Groceries | B20: =SUMIFS(May!$K$6:$K$106,May!$J$6:$J$106,A20) -> 0 | C20: =IFERROR((B20/$C$18),0) -> 0 | E20: Groceries | F20: =SUMIFS(June!$K$6:$K$106,June!$J$6:$J$106,E20) -> 0 | G20: =IFERROR((F20/$G$18),0) -> 0 | I20: Groceries | J20: =SUMIFS(July!$K$6:$K$106,July!$J$6:$J$106,I20) -> 0 | K20: =IFERROR((J20/$K$18),0) -> 0 | M20: Groceries | N20: =SUMIFS(August!$K$6:$K$106,August!$J$6:$J$106,M20) -> 0 | O20: =IFERROR((N20/$O$18),0) -> 0
A21: Entertainment | B21: =SUMIFS(May!$K$6:$K$106,May!$J$6:$J$106,A21) -> 0 | C21: =IFERROR((B21/$C$18),0) -> 0 | E21: Entertainment | F21: =SUMIFS(June!$K$6:$K$106,June!$J$6:$J$106,E21) -> 0 | G21: =IFERROR((F21/$G$18),0) -> 0 | I21: Entertainment | J21: =SUMIFS(July!$K$6:$K$106,July!$J$6:$J$106,I21) -> 0 | K21: =IFERROR((J21/$K$18),0) -> 0 | M21: Entertainment | N21: =SUMIFS(August!$K$6:$K$106,August!$J$6:$J$106,M21) -> 0 | O21: =IFERROR((N21/$O$18),0) -> 0
A22: Fuel | B22: =SUMIFS(May!$K$6:$K$106,May!$J$6:$J$106,A22) -> 0 | C22: =IFERROR((B22/$C$18),0) -> 0 | E22: Fuel | F22: =SUMIFS(June!$K$6:$K$106,June!$J$6:$J$106,E22) -> 0 | G22: =IFERROR((F22/$G$18),0) -> 0 | I22: Fuel | J22: =SUMIFS(July!$K$6:$K$106,July!$J$6:$J$106,I22) -> 0 | K22: =IFERROR((J22/$K$18),0) -> 0 | M22: Fuel | N22: =SUMIFS(August!$K$6:$K$106,August!$J$6:$J$106,M22) -> 0 | O22: =IFERROR((N22/$O$18),0) -> 0
A23: Sport/Exercise | B23: =SUMIFS(May!$K$6:$K$106,May!$J$6:$J$106,A23) -> 0 | C23: =IFERROR((B23/$C$18),0) -> 0 | E23: Sport/Exercise | F23: =SUMIFS(June!$K$6:$K$106,June!$J$6:$J$106,E23) -> 0 | G23: =IFERROR((F23/$G$18),0) -> 0 | I23: Sport/Exercise | J23: =SUMIFS(July!$K$6:$K$106,July!$J$6:$J$106,I23) -> 0 | K23: =IFERROR((J23/$K$18),0) -> 0 | M23: Sport/Exercise | N23: =SUMIFS(August!$K$6:$K$106,August!$J$6:$J$106,M23) -> 0 | O23: =IFERROR((N23/$O$18),0) -> 0
A24: Rent | B24: =SUMIFS(May!$K$6:$K$106,May!$J$6:$J$106,A24) -> 0 | C24: =IFERROR((B24/$C$18),0) -> 0 | E24: Rent | F24: =SUMIFS(June!$K$6:$K$106,June!$J$6:$J$106,E24) -> 0 | G24: =IFERROR((F24/$G$18),0) -> 0 | I24: Rent | J24: =SUMIFS(July!$K$6:$K$106,July!$J$6:$J$106,I24) -> 0 | K24: =IFERROR((J24/$K$18),0) -> 0 | M24: Rent | N24: =SUMIFS(August!$K$6:$K$106,August!$J$6:$J$106,M24) -> 0 | O24: =IFERROR((N24/$O$18),0) -> 0
A25: Takeaways | B25: =SUMIFS(May!$K$6:$K$106,May!$J$6:$J$106,A25) -> 0 | C25: =IFERROR((B25/$C$18),0) -> 0 | E25: Takeaways | F25: =SUMIFS(June!$K$6:$K$106,June!$J$6:$J$106,E25) -> 0 | G25: =IFERROR((F25/$G$18),0) -> 0 | I25: Takeaways | J25: =SUMIFS(July!$K$6:$K$106,July!$J$6:$J$106,I25) -> 0 | K25: =IFERROR((J25/$K$18),0) -> 0 | M25: Takeaways | N25: =SUMIFS(August!$K$6:$K$106,August!$J$6:$J$106,M25) -> 0 | O25: =IFERROR((N25/$O$18),0) -> 0
A26: Utilities | B26: =SUMIFS(May!$K$6:$K$106,May!$J$6:$J$106,A26) -> 0 | C26: =IFERROR((B26/$C$18),0) -> 0 | E26: Utilities | F26: =SUMIFS(June!$K$6:$K$106,June!$J$6:$J$106,E26) -> 0 | G26: =IFERROR((F26/$G$18),0) -> 0 | I26: Utilities | J26: =SUMIFS(July!$K$6:$K$106,July!$J$6:$J$106,I26) -> 0 | K26: =IFERROR((J26/$K$18),0) -> 0 | M26: Utilities | N26: =SUMIFS(August!$K$6:$K$106,August!$J$6:$J$106,M26) -> 0 | O26: =IFERROR((N26/$O$18),0) -> 0
A27: Hobbies | B27: =SUMIFS(May!$K$6:$K$106,May!$J$6:$J$106,A27) -> 0 | C27: =IFERROR((B27/$C$18),0) -> 0 | E27: Hobbies | F27: =SUMIFS(June!$K$6:$K$106,June!$J$6:$J$106,E27) -> 0 | G27: =IFERROR((F27/$G$18),0) -> 0 | I27: Hobbies | J27: =SUMIFS(July!$K$6:$K$106,July!$J$6:$J$106,I27) -> 0 | K27: =IFERROR((J27/$K$18),0) -> 0 | M27: Hobbies | N27: =SUMIFS(August!$K$6:$K$106,August!$J$6:$J$106,M27) -> 0 | O27: =IFERROR((N27/$O$18),0) -> 0
A28: House Supplies | B28: =SUMIFS(May!$K$6:$K$106,May!$J$6:$J$106,A28) -> 0 | C28: =IFERROR((B28/$C$18),0) -> 0 | E28: House Supplies | F28: =SUMIFS(June!$K$6:$K$106,June!$J$6:$J$106,E28) -> 0 | G28: =IFERROR((F28/$G$18),0) -> 0 | I28: House Supplies | J28: =SUMIFS(July!$K$6:$K$106,July!$J$6:$J$106,I28) -> 0 | K28: =IFERROR((J28/$K$18),0) -> 0 | M28: House Supplies | N28: =SUMIFS(August!$K$6:$K$106,August!$J$6:$J$106,M28) -> 0 | O28: =IFERROR((N28/$O$18),0) -> 0
A29: Water | B29: =SUMIFS(May!$K$6:$K$106,May!$J$6:$J$106,A29) -> 0 | C29: =IFERROR((B29/$C$18),0) -> 0 | E29: Water | F29: =SUMIFS(June!$K$6:$K$106,June!$J$6:$J$106,E29) -> 0 | G29: =IFERROR((F29/$G$18),0) -> 0 | I29: Water | J29: =SUMIFS(July!$K$6:$K$106,July!$J$6:$J$106,I29) -> 0 | K29: =IFERROR((J29/$K$18),0) -> 0 | M29: Water | N29: =SUMIFS(August!$K$6:$K$106,August!$J$6:$J$106,M29) -> 0 | O29: =IFERROR((N29/$O$18),0) -> 0
A30: Other | B30: =SUMIFS(May!$K$6:$K$106,May!$J$6:$J$106,A30) -> 0 | C30: =IFERROR((B30/$C$18),0) -> 0 | E30: Other | F30: =SUMIFS(June!$K$6:$K$106,June!$J$6:$J$106,E30) -> 0 | G30: =IFERROR((F30/$G$18),0) -> 0 | I30: Other | J30: =SUMIFS(July!$K$6:$K$106,July!$J$6:$J$106,I30) -> 0 | K30: =IFERROR((J30/$K$18),0) -> 0 | M30: Other | N30: =SUMIFS(August!$K$6:$K$106,August!$J$6:$J$106,M30) -> 0 | O30: =IFERROR((N30/$O$18),0) -> 0
A31: NONE | B31: =SUMIFS(May!$K$6:$K$106,May!$J$6:$J$106,A31) -> 0 | C31: =IFERROR((B31/$C$18),0) -> 0 | E31: NONE | F31: =SUMIFS(June!$K$6:$K$106,June!$J$6:$J$106,E31) -> 0 | G31: =IFERROR((F31/$G$18),0) -> 0 | I31: NONE | J31: =SUMIFS(July!$K$6:$K$106,July!$J$6:$J$106,I31) -> 0 | K31: =IFERROR((J31/$K$18),0) -> 0 | M31: NONE | N31: =SUMIFS(August!$K$6:$K$106,August!$J$6:$J$106,M31) -> 0 | O31: =IFERROR((N31/$O$18),0) -> 0
A35: September | B35: Total Spend: | C35: =September!K108 -> 0 | E35: October | F35: Total Spend: | G35: =October!K108 -> 0 | I35: November | J35: Total Spend: | K35: =November!K108 -> 0 | M35: December | N35: Total Spend: | O35: =December!K108 -> 0
A36: Category | B36: Amount | C36: % Total | E36: Category | F36: Amount | G36: % Total | I36: Category | J36: Amount | K36: % Total | M36: Category | N36: Amount | O36: % Total
A37: Groceries | B37: =SUMIFS(September!$K$6:$K$106,September!$J$6:$J$106,A37) -> 0 | C37: =IFERROR((B37/$C$35),0) -> 0 | E37: Groceries | F37: =SUMIFS(October!$K$6:$K$106,October!$J$6:$J$106,E37) -> 0 | G37: =IFERROR((F37/$G$35),0) -> 0 | I37: Groceries | J37: =SUMIFS(November!$K$6:$K$106,November!$J$6:$J$106,I37) -> 0 | K37: =IFERROR((J37/$K$35),0) -> 0 | M37: Groceries | N37: =SUMIFS(December!$K$6:$K$106,December!$J$6:$J$106,M37) -> 0 | O37: =IFERROR((N37/$O$35),0) -> 0
A38: Entertainment | B38: =SUMIFS(September!$K$6:$K$106,September!$J$6:$J$106,A38) -> 0 | C38: =IFERROR((B38/$C$35),0) -> 0 | E38: Entertainment | F38: =SUMIFS(October!$K$6:$K$106,October!$J$6:$J$106,E38) -> 0 | G38: =IFERROR((F38/$G$35),0) -> 0 | I38: Entertainment | J38: =SUMIFS(November!$K$6:$K$106,November!$J$6:$J$106,I38) -> 0 | K38: =IFERROR((J38/$K$35),0) -> 0 | M38: Entertainment | N38: =SUMIFS(December!$G$6:$G$106,December!$F$6:$F$106,M38) -> 0 | O38: =IFERROR((N38/$O$35),0) -> 0
A39: Fuel | B39: =SUMIFS(September!$K$6:$K$106,September!$J$6:$J$106,A39) -> 0 | C39: =IFERROR((B39/$C$35),0) -> 0 | E39: Fuel | F39: =SUMIFS(October!$K$6:$K$106,October!$J$6:$J$106,E39) -> 0 | G39: =IFERROR((F39/$G$35),0) -> 0 | I39: Fuel | J39: =SUMIFS(November!$K$6:$K$106,November!$J$6:$J$106,I39) -> 0 | K39: =IFERROR((J39/$K$35),0) -> 0 | M39: Fuel | N39: =SUMIFS(December!$G$6:$G$106,December!$F$6:$F$106,M39) -> 0 | O39: =IFERROR((N39/$O$35),0) -> 0
A40: Sport/Exercise | B40: =SUMIFS(September!$K$6:$K$106,September!$J$6:$J$106,A40) -> 0 | C40: =IFERROR((B40/$C$35),0) -> 0 | E40: Sport/Exercise | F40: =SUMIFS(October!$K$6:$K$106,October!$J$6:$J$106,E40) -> 0 | G40: =IFERROR((F40/$G$35),0) -> 0 | I40: Sport/Exercise | J40: =SUMIFS(November!$K$6:$K$106,November!$J$6:$J$106,I40) -> 0 | K40: =IFERROR((J40/$K$35),0) -> 0 | M40: Sport/Exercise | N40: =SUMIFS(December!$G$6:$G$106,December!$F$6:$F$106,M40) -> 0 | O40: =IFERROR((N40/$O$35),0) -> 0
A41: Rent | B41: =SUMIFS(September!$K$6:$K$106,September!$J$6:$J$106,A41) -> 0 | C41: =IFERROR((B41/$C$35),0) -> 0 | E41: Rent | F41: =SUMIFS(October!$K$6:$K$106,October!$J$6:$J$106,E41) -> 0 | G41: =IFERROR((F41/$G$35),0) -> 0 | I41: Rent | J41: =SUMIFS(November!$K$6:$K$106,November!$J$6:$J$106,I41) -> 0 | K41: =IFERROR((J41/$K$35),0) -> 0 | M41: Rent | N41: =SUMIFS(December!$G$6:$G$106,December!$F$6:$F$106,M41) -> 0 | O41: =IFERROR((N41/$O$35),0) -> 0
A42: Takeaways | B42: =SUMIFS(September!$K$6:$K$106,September!$J$6:$J$106,A42) -> 0 | C42: =IFERROR((B42/$C$35),0) -> 0 | E42: Takeaways | F42: =SUMIFS(October!$K$6:$K$106,October!$J$6:$J$106,E42) -> 0 | G42: =IFERROR((F42/$G$35),0) -> 0 | I42: Takeaways | J42: =SUMIFS(November!$K$6:$K$106,November!$J$6:$J$106,I42) -> 0 | K42: =IFERROR((J42/$K$35),0) -> 0 | M42: Takeaways | N42: =SUMIFS(December!$G$6:$G$106,December!$F$6:$F$106,M42) -> 0 | O42: =IFERROR((N42/$O$35),0) -> 0
A43: Utilities | B43: =SUMIFS(September!$K$6:$K$106,September!$J$6:$J$106,A43) -> 0 | C43: =IFERROR((B43/$C$35),0) -> 0 | E43: Utilities | F43: =SUMIFS(October!$K$6:$K$106,October!$J$6:$J$106,E43) -> 0 | G43: =IFERROR((F43/$G$35),0) -> 0 | I43: Utilities | J43: =SUMIFS(November!$K$6:$K$106,November!$J$6:$J$106,I43) -> 0 | K43: =IFERROR((J43/$K$35),0) -> 0 | M43: Utilities | N43: =SUMIFS(December!$G$6:$G$106,December!$F$6:$F$106,M43) -> 0 | O43: =IFERROR((N43/$O$35),0) -> 0
A44: Hobbies | B44: =SUMIFS(September!$K$6:$K$106,September!$J$6:$J$106,A44) -> 0 | C44: =IFERROR((B44/$C$35),0) -> 0 | E44: Hobbies | F44: =SUMIFS(October!$K$6:$K$106,October!$J$6:$J$106,E44) -> 0 | G44: =IFERROR((F44/$G$35),0) -> 0 | I44: Hobbies | J44: =SUMIFS(November!$K$6:$K$106,November!$J$6:$J$106,I44) -> 0 | K44: =IFERROR((J44/$K$35),0) -> 0 | M44: Hobbies | N44: =SUMIFS(December!$G$6:$G$106,December!$F$6:$F$106,M44) -> 0 | O44: =IFERROR((N44/$O$35),0) -> 0
A45: House Supplies | B45: =SUMIFS(September!$K$6:$K$106,September!$J$6:$J$106,A45) -> 0 | C45: =IFERROR((B45/$C$35),0) -> 0 | E45: House Supplies | F45: =SUMIFS(October!$K$6:$K$106,October!$J$6:$J$106,E45) -> 0 | G45: =IFERROR((F45/$G$35),0) -> 0 | I45: House Supplies | J45: =SUMIFS(November!$K$6:$K$106,November!$J$6:$J$106,I45) -> 0 | K45: =IFERROR((J45/$K$35),0) -> 0 | M45: House Supplies | N45: =SUMIFS(December!$G$6:$G$106,December!$F$6:$F$106,M45) -> 0 | O45: =IFERROR((N45/$O$35),0) -> 0
A46: Water | B46: =SUMIFS(September!$K$6:$K$106,September!$J$6:$J$106,A46) -> 0 | C46: =IFERROR((B46/$C$35),0) -> 0 | E46: Water | F46: =SUMIFS(October!$K$6:$K$106,October!$J$6:$J$106,E46) -> 0 | G46: =IFERROR((F46/$G$35),0) -> 0 | I46: Water | J46: =SUMIFS(November!$K$6:$K$106,November!$J$6:$J$106,I46) -> 0 | K46: =IFERROR((J46/$K$35),0) -> 0 | M46: Water | N46: =SUMIFS(December!$G$6:$G$106,December!$F$6:$F$106,M46) -> 0 | O46: =IFERROR((N46/$O$35),0) -> 0
...

Sheet January
B2: Current Account | I2: Credit Card
B4: Description | C4: Debit | E4: Description | F4: Category | G4: Credit | I4: Description | J4: Category | K4: Debit | M4: Description | N4: Credit
F6: NONE | J6: NONE
F7: NONE | J7: NONE
F8: NONE | J8: NONE
F9: NONE | J9: NONE
F10: NONE | J10: NONE
F11: NONE | J11: NONE
F12: NONE | J12: NONE
F13: NONE | J13: NONE
F14: NONE | J14: NONE
F15: NONE | J15: NONE
F16: NONE | J16: NONE
F17: NONE | J17: NONE
... F106: NONE | J106: NONE
C108: =SUM(C6:C106) -> 0 | G108: =SUM(G6:G106) -> 0 | K108: =SUM(K6:K106) -> 0 | N108: =Sum(N6:N106) -> 0
G113: =C108-G108 -> 0 | N113: =N108-K108 -> 0

Sheet February
B2: Current Account | I2: Credit Card
B4: Description | C4: Debit | E4: Description | F4: Category | G4: Credit | I4: Description | J4: Category | K4: Debit | M4: Description | N4: Credit
F6: NONE | J6: NONE
F7: NONE | J7: NONE
F8: NONE | J8: NONE
F9: NONE | J9: NONE
F10: NONE | J10: NONE
F11: NONE | J11: NONE
F12: NONE | J12: NONE
F13: NONE | J13: NONE
F14: NONE | J14: NONE
F15: NONE | J15: NONE
F16: NONE | J16: NONE
F17: NONE | J17: NONE
... F106: NONE | J106: NONE
C108: =SUM(C6:C106) -> 0 | G108: =SUM(G6:G106) -> 0 | K108: =SUM(K6:K106) -> 0 | N108: =Sum(N6:N106) -> 0
G113: =C108-G108 -> 0 | N113: =N108-K108 -> 0

Sheet March
B2: Current Account | I2: Credit Card
B4: Description | C4: Debit | E4: Description | F4: Category | G4: Credit | I4: Description | J4: Category | K4: Debit | M4: Description | N4: Credit
F6: NONE | J6: NONE
F7: NONE | J7: NONE
F8: NONE | J8: NONE
F9: NONE | J9: NONE
F10: NONE | J10: NONE
F11: NONE | J11: NONE
F12: NONE | J12: NONE
F13: NONE | J13: NONE
F14: NONE | J14: NONE
F15: NONE | J15: NONE
F16: NONE | J16: NONE
F17: NONE | J17: NONE
... F106: NONE | J106: NONE
C108: =SUM(C6:C106) -> 0 | G108: =SUM(G6:G106) -> 0 | K108: =SUM(K6:K106) -> 0 | N108: =Sum(N6:N106) -> 0
G113: =C108-G108 -> 0 | N113: =N108-K108 -> 0

Sheet April
B2: Current Account | I2: Credit Card
B4: Description | C4: Debit | E4: Description | F4: Category | G4: Credit | I4: Description | J4: Category | K4: Debit | M4: Description | N4: Credit
F6: NONE | J6: NONE
F7: NONE | J7: NONE
F8: NONE | J8: NONE
F9: NONE | J9: NONE
F10: NONE | J10: NONE
F11: NONE | J11: NONE
F12: NONE | J12: NONE
F13: NONE | J13: NONE
F14: NONE | J14: NONE
F15: NONE | J15: NONE
F16: NONE | J16: NONE
F17: NONE | J17: NONE
... F106: NONE | J106: NONE
C108: =SUM(C6:C106) -> 0 | G108: =SUM(G6:G106) -> 0 | K108: =SUM(K6:K106) -> 0 | N108: =Sum(N6:N106) -> 0
G113: =C108-G108 -> 0 | N113: =N108-K108 -> 0

Sheet May
B2: Current Account | I2: Credit Card
B4: Description | C4: Debit | E4: Description | F4: Category | G4: Credit | I4: Description | J4: Category | K4: Debit | M4: Description | N4: Credit
F6: NONE | J6: NONE
F7: NONE | J7: NONE
F8: NONE | J8: NONE
F9: NONE | J9: NONE
F10: NONE | J10: NONE
F11: NONE | J11: NONE
F12: NONE | J12: NONE
F13: NONE | J13: NONE
F14: NONE | J14: NONE
F15: NONE | J15: NONE
F16: NONE | J16: NONE
F17: NONE | J17: NONE
... F106: NONE | J106: NONE
C108: =SUM(C6:C106) -> 0 | G108: =SUM(G6:G106) -> 0 | K108: =SUM(K6:K106) -> 0 | N108: =Sum(N6:N106) -> 0
G113: =C108-G108 -> 0 | N113: =N108-K108 -> 0

Sheet June
B2: Current Account | I2: Credit Card
B4: Description | C4: Debit | E4: Description | F4: Category | G4: Credit | I4: Description | J4: Category | K4: Debit | M4: Description | N4: Credit
F6: NONE | J6: NONE
F7: NONE | J7: NONE
F8: NONE | J8: NONE
F9: NONE | J9: NONE
F10: NONE | J10: NONE
F11: NONE | J11: NONE
F12: NONE | J12: NONE
F13: NONE | J13: NONE
F14: NONE | J14: NONE
F15: NONE | J15: NONE
F16: NONE | J16: NONE
F17: NONE | J17: NONE
... F106: NONE | J106: NONE
C108: =SUM(C6:C106) -> 0 | G108: =SUM(G6:G106) -> 0 | K108: =SUM(K6:K106) -> 0 | N108: =Sum(N6:N106) -> 0
G113: =C108-G108 -> 0 | N113: =N108-K108 -> 0

Sheet July
B2: Current Account | I2: Credit Card
B4: Description | C4: Debit | E4: Description | F4: Category | G4: Credit | I4: Description | J4: Category | K4: Debit | M4: Description | N4: Credit
F6: NONE | J6: NONE
F7: NONE | J7: NONE
F8: NONE | J8: NONE
F9: NONE | J9: NONE
F10: NONE | J10: NONE
F11: NONE | J11: NONE
F12: NONE | J12: NONE
F13: NONE | J13: NONE
F14: NONE | J14: NONE
F15: NONE | J15: NONE
F16: NONE | J16: NONE
F17: NONE | J17: NONE
... F106: NONE | J106: NONE
C108: =SUM(C6:C106) -> 0 | G108: =SUM(G6:G106) -> 0 | K108: =SUM(K6:K106) -> 0 | N108: =Sum(N6:N106) -> 0
G113: =C108-G108 -> 0 | N113: =N108-K108 -> 0

Sheet August
B2: Current Account | I2: Credit Card
B4: Description | C4: Debit | E4: Description | F4: Category | G4: Credit | I4: Description | J4: Category | K4: Debit | M4: Description | N4: Credit
F6: NONE | J6: NONE
F7: NONE | J7: NONE
F8: NONE | J8: NONE
F9: NONE | J9: NONE
F10: NONE | J10: NONE
F11: NONE | J11: NONE
F12: NONE | J12: NONE
F13: NONE | J13: NONE
F14: NONE | J14: NONE
F15: NONE | J15: NONE
F16: NONE | J16: NONE
F17: NONE | J17: NONE
... F106: NONE | J106: NONE
C108: =SUM(C6:C106) -> 0 | G108: =SUM(G6:G106) -> 0 | K108: =SUM(K6:K106) -> 0 | N108: =Sum(N6:N106) -> 0
G113: =C108-G108 -> 0 | N113: =N108-K108 -> 0

Sheet September
B2: Current Account | I2: Credit Card
B4: Description | C4: Debit | E4: Description | F4: Category | G4: Credit | I4: Description | J4: Category | K4: Debit | M4: Description | N4: Credit
F6: NONE | J6: NONE
F7: NONE | J7: NONE
F8: NONE | J8: NONE
F9: NONE | J9: NONE
F10: NONE | J10: NONE
F11: NONE | J11: NONE
F12: NONE | J12: NONE
F13: NONE | J13: NONE
F14: NONE | J14: NONE
F15: NONE | J15: NONE
F16: NONE | J16: NONE
F17: NONE | J17: NONE
... F106: NONE | J106: NONE
C108: =SUM(C6:C106) -> 0 | G108: =SUM(G6:G106) -> 0 | K108: =SUM(K6:K106) -> 0 | N108: =Sum(N6:N106) -> 0
G113: =C108-G108 -> 0 | N113: =N108-K108 -> 0

Sheet October
B2: Current Account | I2: Credit Card
B4: Description | C4: Debit | E4: Description | F4: Category | G4: Credit | I4: Description | J4: Category | K4: Debit | M4: Description | N4: Credit
F6: NONE | J6: NONE
F7: NONE | J7: NONE
F8: NONE | J8: NONE
F9: NONE | J9: NONE
F10: NONE | J10: NONE
F11: NONE | J11: NONE
F12: NONE | J12: NONE
F13: NONE | J13: NONE
F14: NONE | J14: NONE
F15: NONE | J15: NONE
F16: NONE | J16: NONE
F17: NONE | J17: NONE
... F106: NONE | J106: NONE
C108: =SUM(C6:C106) -> 0 | G108: =SUM(G6:G106) -> 0 | K108: =SUM(K6:K106) -> 0 | N108: =Sum(N6:N106) -> 0
G113: =C108-G108 -> 0 | N113: =N108-K108 -> 0

Sheet November
B2: Current Account | I2: Credit Card
B4: Description | C4: Debit | E4: Description | F4: Category | G4: Credit | I4: Description | J4: Category | K4: Debit | M4: Description | N4: Credit
F6: NONE | J6: NONE
F7: NONE | J7: NONE
F8: NONE | J8: NONE
F9: NONE | J9: NONE
F10: NONE | J10: NONE
F11: NONE | J11: NONE
F12: NONE | J12: NONE
F13: NONE | J13: NONE
F14: NONE | J14: NONE
F15: NONE | J15: NONE
F16: NONE | J16: NONE
F17: NONE | J17: NONE
... F106: NONE | J106: NONE
C108: =SUM(C6:C106) -> 0 | G108: =SUM(G6:G106) -> 0 | K108: =SUM(K6:K106) -> 0 | N108: =Sum(N6:N106) -> 0
G113: =C108-G108 -> 0 | N113: =N108-K108 -> 0

Sheet December
B2: Current Account | I2: Credit Card
B4: Description | C4: Debit | E4: Description | F4: Category | G4: Credit | I4: Description | J4: Category | K4: Debit | M4: Description | N4: Credit
F6: NONE | J6: NONE
F7: NONE | J7: NONE
F8: NONE | J8: NONE
F9: NONE | J9: NONE
F10: NONE | J10: NONE
F11: NONE | J11: NONE
F12: NONE | J12: NONE
F13: NONE | J13: NONE
F14: NONE | J14: NONE
F15: NONE | J15: NONE
F16: NONE | J16: NONE
F17: NONE | J17: NONE
... F106: NONE | J106: NONE
C108: =SUM(C6:C106) -> 0 | G108: =SUM(G6:G106) -> 0 | K108: =SUM(K6:K106) -> 0 | N108: =Sum(N6:N106) -> 0
G113: =C108-G108 -> 0 | N113: =N108-K108 -> 0

Sheet Category DDL
A1: NONE
A2: Groceries
A3: Entertainment
A4: Fuel
A5: Sport/Exercise
A6: Rent
A7: Takeaways
A8: Utilities
A9: Water
A10: Hobbies
A11: House Supplies
A12: Other
